BEGIN:VCALENDAR
VERSION:2.0
PRODID:-//TW Town - ECPv5.16.4//NONSGML v1.0//EN
CALSCALE:GREGORIAN
METHOD:PUBLISH
X-WR-CALNAME:TW Town
X-ORIGINAL-URL:https://twdb.townwebinc.com
X-WR-CALDESC:Events for TW Town
BEGIN:VTIMEZONE
TZID:America/Chicago
BEGIN:DAYLIGHT
TZOFFSETFROM:-0600
TZOFFSETTO:-0500
TZNAME:CDT
DTSTART:20170312T080000
END:DAYLIGHT
BEGIN:STANDARD
TZOFFSETFROM:-0500
TZOFFSETTO:-0600
TZNAME:CST
DTSTART:20171105T070000
END:STANDARD
END:VTIMEZONE
BEGIN:VEVENT
DTSTART;TZID=America/Chicago:20170228T180000
DTEND;TZID=America/Chicago:20170228T180000
DTSTAMP:20260425T061208
CREATED:20170301T000000Z
LAST-MODIFIED:20170301T000000Z
UID:20802-1488304800-1488304800@twdb.townwebinc.com
SUMMARY:Test Event
DESCRIPTION:Testing the recurrence
URL:https://twdb.townwebinc.com/event/test-event-2/2017-02-28/
END:VEVENT
END:VCALENDAR