BEGIN:VCALENDAR
VERSION:2.0
PRODID:-//TW Town - ECPv5.16.4//NONSGML v1.0//EN
CALSCALE:GREGORIAN
METHOD:PUBLISH
X-WR-CALNAME:TW Town
X-ORIGINAL-URL:https://twdb.townwebinc.com
X-WR-CALDESC:Events for TW Town
BEGIN:VTIMEZONE
TZID:America/Chicago
BEGIN:DAYLIGHT
TZOFFSETFROM:-0600
TZOFFSETTO:-0500
TZNAME:CDT
DTSTART:20170312T080000
END:DAYLIGHT
BEGIN:STANDARD
TZOFFSETFROM:-0500
TZOFFSETTO:-0600
TZNAME:CST
DTSTART:20171105T070000
END:STANDARD
END:VTIMEZONE
BEGIN:VEVENT
DTSTART;VALUE=DATE:20170226
DTEND;VALUE=DATE:20170227
DTSTAMP:20260425T094211
CREATED:20170226T060000Z
LAST-MODIFIED:20170226T060000Z
UID:20804-1488067200-1488153599@twdb.townwebinc.com
SUMMARY:Test Draft
DESCRIPTION:
URL:https://twdb.townwebinc.com/event/test-draft/
END:VEVENT
END:VCALENDAR