BEGIN:VCALENDAR
VERSION:2.0
PRODID:-//TW Town - ECPv5.16.4//NONSGML v1.0//EN
CALSCALE:GREGORIAN
METHOD:PUBLISH
X-WR-CALNAME:TW Town
X-ORIGINAL-URL:https://twdb.townwebinc.com
X-WR-CALDESC:Events for TW Town
BEGIN:VTIMEZONE
TZID:America/Chicago
BEGIN:DAYLIGHT
TZOFFSETFROM:-0600
TZOFFSETTO:-0500
TZNAME:CDT
DTSTART:20160313T080000
END:DAYLIGHT
BEGIN:STANDARD
TZOFFSETFROM:-0500
TZOFFSETTO:-0600
TZNAME:CST
DTSTART:20161106T070000
END:STANDARD
END:VTIMEZONE
BEGIN:VEVENT
DTSTART;TZID=America/Chicago:20161107T070900
DTEND;TZID=America/Chicago:20161107T200000
DTSTAMP:20260425T170652
CREATED:20161107T130900Z
LAST-MODIFIED:20161107T130900Z
UID:20813-1478502540-1478548800@twdb.townwebinc.com
SUMMARY:Jenny’s Test Event 1
DESCRIPTION:Jenny’s Test Event 1
URL:https://twdb.townwebinc.com/event/jennys-test-event-1/2016-11-07/
END:VEVENT
END:VCALENDAR