BEGIN:VCALENDAR
VERSION:2.0
PRODID:-//TW Town - ECPv5.16.4//NONSGML v1.0//EN
CALSCALE:GREGORIAN
METHOD:PUBLISH
X-WR-CALNAME:TW Town
X-ORIGINAL-URL:https://twdb.townwebinc.com
X-WR-CALDESC:Events for TW Town
BEGIN:VTIMEZONE
TZID:America/Chicago
BEGIN:DAYLIGHT
TZOFFSETFROM:-0600
TZOFFSETTO:-0500
TZNAME:CDT
DTSTART:20170312T080000
END:DAYLIGHT
BEGIN:STANDARD
TZOFFSETFROM:-0500
TZOFFSETTO:-0600
TZNAME:CST
DTSTART:20171105T070000
END:STANDARD
END:VTIMEZONE
BEGIN:VEVENT
DTSTART;VALUE=DATE:20170228
DTEND;VALUE=DATE:20170301
DTSTAMP:20260425T074535
CREATED:20170228T060000Z
LAST-MODIFIED:20170228T060000Z
UID:20803-1488240000-1488326399@twdb.townwebinc.com
SUMMARY:Election event Election event Election
DESCRIPTION:Election event
URL:https://twdb.townwebinc.com/event/election-event-election-event-election/2017-02-28/
END:VEVENT
END:VCALENDAR