BEGIN:VCALENDAR
VERSION:2.0
PRODID:-//TW Town - ECPv5.16.4//NONSGML v1.0//EN
CALSCALE:GREGORIAN
METHOD:PUBLISH
X-WR-CALNAME:TW Town
X-ORIGINAL-URL:https://twdb.townwebinc.com
X-WR-CALDESC:Events for TW Town
BEGIN:VTIMEZONE
TZID:America/Chicago
BEGIN:DAYLIGHT
TZOFFSETFROM:-0600
TZOFFSETTO:-0500
TZNAME:CDT
DTSTART:20170312T080000
END:DAYLIGHT
BEGIN:STANDARD
TZOFFSETFROM:-0500
TZOFFSETTO:-0600
TZNAME:CST
DTSTART:20171105T070000
END:STANDARD
END:VTIMEZONE
BEGIN:VEVENT
DTSTART;VALUE=DATE:20170313
DTEND;VALUE=DATE:20170314
DTSTAMP:20260424T205631
CREATED:20170313T050000Z
LAST-MODIFIED:20170313T050000Z
UID:20797-1489363200-1489449599@twdb.townwebinc.com
SUMMARY:ALL DAY EVENT
DESCRIPTION:ALL DAY EVENT ALL DAY EVENT ALL DAY EVENT
URL:https://twdb.townwebinc.com/event/all-day-event/
END:VEVENT
END:VCALENDAR