BEGIN:VCALENDAR
VERSION:2.0
PRODID:-//TW Town - ECPv5.16.4//NONSGML v1.0//EN
CALSCALE:GREGORIAN
METHOD:PUBLISH
X-WR-CALNAME:TW Town
X-ORIGINAL-URL:https://twdb.townwebinc.com
X-WR-CALDESC:Events for TW Town
BEGIN:VTIMEZONE
TZID:America/Chicago
BEGIN:DAYLIGHT
TZOFFSETFROM:-0600
TZOFFSETTO:-0500
TZNAME:CDT
DTSTART:20160313T080000
END:DAYLIGHT
BEGIN:STANDARD
TZOFFSETFROM:-0500
TZOFFSETTO:-0600
TZNAME:CST
DTSTART:20161106T070000
END:STANDARD
END:VTIMEZONE
BEGIN:VEVENT
DTSTART;VALUE=DATE:20161115
DTEND;VALUE=DATE:20161116
DTSTAMP:20260425T170856
CREATED:20161115T060000Z
LAST-MODIFIED:20161115T060000Z
UID:20809-1479168000-1479254399@twdb.townwebinc.com
SUMMARY:1Every Day
DESCRIPTION:Every Day
URL:https://twdb.townwebinc.com/event/1every-day/2016-11-15/
END:VEVENT
END:VCALENDAR